BEGIN:VCALENDAR
VERSION:2.0
PRODID:-//PROZESSTECHNIK - ECPv6.11.2.1//NONSGML v1.0//EN
CALSCALE:GREGORIAN
METHOD:PUBLISH
X-WR-CALNAME:PROZESSTECHNIK
X-ORIGINAL-URL:https://www.prozesstechnik-portal.com
X-WR-CALDESC:Veranstaltungen für PROZESSTECHNIK
REFRESH-INTERVAL;VALUE=DURATION:PT1H
X-Robots-Tag:noindex
X-PUBLISHED-TTL:PT1H
BEGIN:VTIMEZONE
TZID:Europe/Berlin
BEGIN:DAYLIGHT
TZOFFSETFROM:+0100
TZOFFSETTO:+0200
TZNAME:CEST
DTSTART:20240331T010000
END:DAYLIGHT
BEGIN:STANDARD
TZOFFSETFROM:+0200
TZOFFSETTO:+0100
TZNAME:CET
DTSTART:20241027T010000
END:STANDARD
END:VTIMEZONE
BEGIN:VEVENT
DTSTART;TZID=Europe/Berlin:20241126T150000
DTEND;TZID=Europe/Berlin:20241126T160000
DTSTAMP:20260424T092104
CREATED:20241111T160509Z
LAST-MODIFIED:20241111T160509Z
UID:60715-1732633200-1732636800@www.prozesstechnik-portal.com
SUMMARY:Hellma PAT-Forum ONLINE Webinar
DESCRIPTION:PAT-Exper­te Dr. Ste­fa­no Radi­ce zeigt in die­sem kos­ten­frei­en Webi­nar\, wie PVDC-hal­ti­ge Poly­mer­ab­fäl­le\, die häu­fig in Lebens­mit­tel­ver­pa­ckungs­fo­li­en als Trenn­schicht ver­wen­det wer­den\, iden­ti­fi­ziert und sor­tiert wer­den kön­nen. Außer­dem erfah­ren Teilnehmer:innen\, wie Schwin­gungs­spek­tro­sko­pie (IR\, Raman\, NIR) die­se Mehr­schicht­sys­te­me ana­ly­sie­ren und ihre Bestand­tei­le iden­ti­fi­zie­ren kann. Außer­dem ler­nen Inter­es­sier­te ein gemein­sa­mes Pro­jekt mit TOMRA ken­nen\, das die Effek­ti­vi­tät eines auf NIR-Sen­so­ren basie­ren­den Sys­tems zur Sor­tie­rung kom­ple­xer Poly­mer­fo­li­en zeigt. Die­se Gele­gen­heit soll­te man nut­zen\, um von den Hell­ma-Exper­ten alles Wis­sens­wer­te für eine erfolg­rei­che Umset­zung eines PAT-Pro­jekts zu erfahren. \n  \nWebi­nar Details: \nSpea­ker: Dr. Ste­fa­no Radi­ce\, Princi­pal Sci­en­tist bei Syensqo \nThe­ma: Vibra­tio­nal Spec­tro­scopy and NIR Tech­no­lo­gy for Poly­mer Sorting \n  \nDas kos­ten­freie Webi­nar fin­det von 15:00–15:45 Uhr in eng­li­scher Spra­che statt. \nNach dem Input durch den Exper­ten gibt es die Mög­lich­keit\, indi­vi­du­el­le Fra­gen in der Q&A (Ques­ti­ons-and-Ans­wers) ‑Ses­si­on zu stellen. \n  \n\nEinen pra­xis­na­hen Ein­blick in die Nach­hal­tig­keits­prak­ti­ken der Poly­mer­indus­trie und ihre Bedeu­tung für die Kreis­lauf­wirt­schaft erhalten\nErfah­ren\, wie Echt­zeit-Schwin­gungs­spek­tro­sko­pie (IR\, Raman\, NIR) Poly­me­re effi­zi­ent klas­si­fi­ziert und sor­tiert – ein ent­schei­den­der Schritt im Abfallmanagement\nVor­tei­le von Schwin­gungs­spek­tro­sko­pie verstehen\nWis­sen über fort­schritt­li­che Sor­tier­mög­lich­kei­ten erweitern
URL:https://www.prozesstechnik-portal.com/veranstaltung/hellma-pat-forum-online-webinar-2/
LOCATION:Online
CATEGORIES:Webinare
ATTACH;FMTTYPE=image/jpeg:https://www.prozesstechnik-portal.com/wp-content/uploads/Download.jpeg
END:VEVENT
END:VCALENDAR