BEGIN:VCALENDAR
VERSION:2.0
PRODID:-//PROZESSTECHNIK - ECPv6.11.2.1//NONSGML v1.0//EN
CALSCALE:GREGORIAN
METHOD:PUBLISH
X-WR-CALNAME:PROZESSTECHNIK
X-ORIGINAL-URL:https://www.prozesstechnik-portal.com
X-WR-CALDESC:Veranstaltungen für PROZESSTECHNIK
REFRESH-INTERVAL;VALUE=DURATION:PT1H
X-Robots-Tag:noindex
X-PUBLISHED-TTL:PT1H
BEGIN:VTIMEZONE
TZID:Europe/Berlin
BEGIN:DAYLIGHT
TZOFFSETFROM:+0100
TZOFFSETTO:+0200
TZNAME:CEST
DTSTART:20230326T010000
END:DAYLIGHT
BEGIN:STANDARD
TZOFFSETFROM:+0200
TZOFFSETTO:+0100
TZNAME:CET
DTSTART:20231029T010000
END:STANDARD
END:VTIMEZONE
BEGIN:VEVENT
DTSTART;TZID=Europe/Berlin:20231204T080000
DTEND;TZID=Europe/Berlin:20231213T170000
DTSTAMP:20260422T182157
CREATED:20230331T135212Z
LAST-MODIFIED:20230331T135212Z
UID:54457-1701676800-1702486800@www.prozesstechnik-portal.com
SUMMARY:Ausbildung zum Brandschutzbeauftragten nach vfdb-Richtlinie 12-09-01:2014-08(03)
DESCRIPTION:Die Aus­bil­dung zum Brand­schutz­be­auf­trag­ten umfasst 64 Unter­richts­ein­hei­ten und beinhal­tet alle The­men\, die für die Auf­ga­ben und Pflich­ten die­ser Posi­ti­on rele­vant sind. Es wer­den recht­li­che Grund­la­gen bespro­chen und es wird auf pra­xis­be­zo­ge­ne Bei­spie­le ein­ge­gan­gen\, um das Ver­ständ­nis der mög­li­chen Ursa­chen von Brän­den oder Explo­sio­nen zu ver­tie­fen und Vor­beu­gungs­maß­nah­men zu erklä­ren. Expe­ri­men­tal­vor­trä­ge stel­len den Teil­neh­mern die Grund­la­gen der Ver­bren­nung und Explo­sio­nen anschau­lich vor. Wei­ter­hin ler­nen sie\, wie sie mit Hil­fe einer Brand­schutz­ord­nung\, Flucht- und Ret­tungs­plä­nen\, Ein­satz­plä­nen\, Ablauf- und Orga­ni­sa­ti­ons­plä­nen geeig­ne­te Gegen­maß­nah­men ein­lei­ten kön­nen. Des Wei­te­ren erfah­ren sie\, wie Hand­feu­er­lö­scher rich­tig aus­ge­wählt und ver­wen­det wer­den und wie die Tätig­kei­ten eines Brand­schutz­be­auf­trag­ten sys­te­ma­tisch orga­ni­siert wer­den können.
URL:https://www.prozesstechnik-portal.com/veranstaltung/ausbildung-zum-brandschutzbeauftragten-nach-vfdb-richtlinie-12-09-012014-0803/
LOCATION:Haus der Tech­nik e.V.\, Hollestr. 1\, Essen\, 45127\, Deutschland
ATTACH;FMTTYPE=image/jpeg:https://www.prozesstechnik-portal.com/wp-content/uploads/DF7484B0C7D1A1-brandschutzbeauftragterrlL9ZzEykCLFi_1024x1024@2x.jpg
END:VEVENT
END:VCALENDAR